BEGIN:VCALENDAR
VERSION:2.0
PRODID:-//ChurchDev//Events//EN
CALSCALE:GREGORIAN
METHOD:PUBLISH
BEGIN:VEVENT
UID:4698-20260420@www.firstlutheranfreeport.org
SUMMARY:First News Info Due
DTSTART;VALUE=DATE:20260420
DTEND;VALUE=DATE:20260421
DESCRIPTION:https://www.firstlutheranfreeport.org/events/first-news-info-due-5/
LOCATION:303 S. Galena Ave\, Freeport\, IL 61032-5126
URL:https://www.firstlutheranfreeport.org/events/first-news-info-due-5/
DTSTAMP:20260419T195147Z
END:VEVENT
END:VCALENDAR
